BEGIN:VCALENDAR
VERSION:2.0
PRODID:-//EnduroNuts: Enduro Tours Romania - ECPv5.16.1.1//NONSGML v1.0//EN
CALSCALE:GREGORIAN
METHOD:PUBLISH
X-ORIGINAL-URL:https://enduro-nuts.ro
X-WR-CALDESC:Events for EnduroNuts: Enduro Tours Romania
REFRESH-INTERVAL;VALUE=DURATION:PT1H
X-Robots-Tag:noindex
X-PUBLISHED-TTL:PT1H
BEGIN:VTIMEZONE
TZID:Europe/Bucharest
BEGIN:DAYLIGHT
TZOFFSETFROM:+0200
TZOFFSETTO:+0300
TZNAME:EEST
DTSTART:20230326T010000
END:DAYLIGHT
BEGIN:STANDARD
TZOFFSETFROM:+0300
TZOFFSETTO:+0200
TZNAME:EET
DTSTART:20231029T010000
END:STANDARD
END:VTIMEZONE
BEGIN:VEVENT
DTSTART;VALUE=DATE:20230320
DTEND;VALUE=DATE:20230327
DTSTAMP:20260422T001534
CREATED:20230201T174307Z
LAST-MODIFIED:20230201T174643Z
UID:4866-1679270400-1679875199@enduro-nuts.ro
SUMMARY:Learn&Ride Thasos/Greece
DESCRIPTION:7 days 6 nights 5 days riding. \nIncludes accommodation with breakfast. \nLimited places available. \nTalk to Paul for detailed information. \nFind out more about Thasos on Wikipedia.
URL:https://enduro-nuts.ro/event/2023-03-20-learnride-thasos-greece/
LOCATION:Thasos\, Greece\, Thasos\, 640 04\, Greece
CATEGORIES:TOUR
END:VEVENT
END:VCALENDAR